BEGIN:VCALENDAR
VERSION:2.0
CALSCALE:GREGORIAN
METHOD:PUBLISH
BEGIN:VEVENT
SUMMARY:Harum occaecati mollitia occaecati pariatur
DTSTART;VALUE=DATE:20200614
DTEND;VALUE=DATE:20200615
URL:https://mailchimp-pr-65.ci.next.deskprodemo.com/en-US/news/posts/18
END:VEVENT
BEGIN:VEVENT
SUMMARY:Nemo optio est commodi quia
DTSTART;VALUE=DATE:20200614
DTEND;VALUE=DATE:20200615
URL:https://mailchimp-pr-65.ci.next.deskprodemo.com/en-US/news/posts/75
END:VEVENT
BEGIN:VEVENT
SUMMARY:Facilis et beatae id architecto
DTSTART;VALUE=DATE:20200610
DTEND;VALUE=DATE:20200611
URL:https://mailchimp-pr-65.ci.next.deskprodemo.com/en-US/news/posts/36
END:VEVENT
BEGIN:VEVENT
SUMMARY:Aut et temporibus iusto ut
DTSTART;VALUE=DATE:20200607
DTEND;VALUE=DATE:20200608
URL:https://mailchimp-pr-65.ci.next.deskprodemo.com/en-US/news/posts/22
END:VEVENT
END:VCALENDAR
