BEGIN:VCALENDAR
VERSION:2.0
CALSCALE:GREGORIAN
METHOD:PUBLISH
BEGIN:VEVENT
SUMMARY:Quia dicta impedit autem impedit
DTSTART;VALUE=DATE:20200614
DTEND;VALUE=DATE:20200615
URL:https://mailchimp-pr-65.ci.next.deskprodemo.com/en-US/news/posts/16
END:VEVENT
BEGIN:VEVENT
SUMMARY:Explicabo accusantium aut nisi veritatis
DTSTART;VALUE=DATE:20200607
DTEND;VALUE=DATE:20200608
URL:https://mailchimp-pr-65.ci.next.deskprodemo.com/en-US/news/posts/65
END:VEVENT
END:VCALENDAR
