BEGIN:VCALENDAR
VERSION:2.0
CALSCALE:GREGORIAN
METHOD:PUBLISH
BEGIN:VEVENT
SUMMARY:Unde dolor cupiditate aliquid ut
DTSTART;VALUE=DATE:20200614
DTEND;VALUE=DATE:20200615
URL:https://mailchimp-pr-65.ci.next.deskprodemo.com/en-US/news/posts/71
END:VEVENT
BEGIN:VEVENT
SUMMARY:Voluptas sapiente aut voluptatem qui
DTSTART;VALUE=DATE:20200613
DTEND;VALUE=DATE:20200614
URL:https://mailchimp-pr-65.ci.next.deskprodemo.com/en-US/news/posts/67
END:VEVENT
BEGIN:VEVENT
SUMMARY:Qui velit voluptas fugit vel
DTSTART;VALUE=DATE:20200612
DTEND;VALUE=DATE:20200613
URL:https://mailchimp-pr-65.ci.next.deskprodemo.com/en-US/news/posts/83
END:VEVENT
BEGIN:VEVENT
SUMMARY:Veniam iusto accusamus ut reiciendis
DTSTART;VALUE=DATE:20200612
DTEND;VALUE=DATE:20200613
URL:https://mailchimp-pr-65.ci.next.deskprodemo.com/en-US/news/posts/82
END:VEVENT
BEGIN:VEVENT
SUMMARY:Ipsam odit cumque dolorem alias
DTSTART;VALUE=DATE:20200610
DTEND;VALUE=DATE:20200611
URL:https://mailchimp-pr-65.ci.next.deskprodemo.com/en-US/news/posts/96
END:VEVENT
BEGIN:VEVENT
SUMMARY:Pariatur ut deserunt modi incidunt
DTSTART;VALUE=DATE:20200609
DTEND;VALUE=DATE:20200610
URL:https://mailchimp-pr-65.ci.next.deskprodemo.com/en-US/news/posts/54
END:VEVENT
BEGIN:VEVENT
SUMMARY:Maiores aut debitis quos voluptatem
DTSTART;VALUE=DATE:20200608
DTEND;VALUE=DATE:20200609
URL:https://mailchimp-pr-65.ci.next.deskprodemo.com/en-US/news/posts/42
END:VEVENT
BEGIN:VEVENT
SUMMARY:Aperiam id quo similique sint
DTSTART;VALUE=DATE:20200608
DTEND;VALUE=DATE:20200609
URL:https://mailchimp-pr-65.ci.next.deskprodemo.com/en-US/news/posts/64
END:VEVENT
BEGIN:VEVENT
SUMMARY:Minima laboriosam sunt neque sit
DTSTART;VALUE=DATE:20200608
DTEND;VALUE=DATE:20200609
URL:https://mailchimp-pr-65.ci.next.deskprodemo.com/en-US/news/posts/92
END:VEVENT
BEGIN:VEVENT
SUMMARY:Dolor sed quos aut impedit
DTSTART;VALUE=DATE:20200607
DTEND;VALUE=DATE:20200608
URL:https://mailchimp-pr-65.ci.next.deskprodemo.com/en-US/news/posts/87
END:VEVENT
BEGIN:VEVENT
SUMMARY:Odio non sit quis omnis
DTSTART;VALUE=DATE:20200607
DTEND;VALUE=DATE:20200608
URL:https://mailchimp-pr-65.ci.next.deskprodemo.com/en-US/news/posts/62
END:VEVENT
BEGIN:VEVENT
SUMMARY:Ut aut nemo eum odio
DTSTART;VALUE=DATE:20200607
DTEND;VALUE=DATE:20200608
URL:https://mailchimp-pr-65.ci.next.deskprodemo.com/en-US/news/posts/40
END:VEVENT
BEGIN:VEVENT
SUMMARY:Et cupiditate sit beatae provident
DTSTART;VALUE=DATE:20200606
DTEND;VALUE=DATE:20200607
URL:https://mailchimp-pr-65.ci.next.deskprodemo.com/en-US/news/posts/77
END:VEVENT
BEGIN:VEVENT
SUMMARY:Expedita minus sint quidem architecto
DTSTART;VALUE=DATE:20200606
DTEND;VALUE=DATE:20200607
URL:https://mailchimp-pr-65.ci.next.deskprodemo.com/en-US/news/posts/39
END:VEVENT
END:VCALENDAR
