BEGIN:VCALENDAR
VERSION:2.0
CALSCALE:GREGORIAN
METHOD:PUBLISH
BEGIN:VEVENT
SUMMARY:Totam explicabo ab maiores ut
DTSTART;VALUE=DATE:20200615
DTEND;VALUE=DATE:20200616
URL:https://mailchimp-pr-65.ci.next.deskprodemo.com/en-US/news/posts/70
END:VEVENT
BEGIN:VEVENT
SUMMARY:Nam dignissimos sit nihil eius
DTSTART;VALUE=DATE:20200614
DTEND;VALUE=DATE:20200615
URL:https://mailchimp-pr-65.ci.next.deskprodemo.com/en-US/news/posts/30
END:VEVENT
END:VCALENDAR
