BEGIN:VCALENDAR
VERSION:2.0
CALSCALE:GREGORIAN
METHOD:PUBLISH
BEGIN:VEVENT
SUMMARY:Enim suscipit et sed in
DTSTART;VALUE=DATE:20200613
DTEND;VALUE=DATE:20200614
URL:https://mailchimp-pr-65.ci.next.deskprodemo.com/ar/news/posts/34
END:VEVENT
BEGIN:VEVENT
SUMMARY:Vero impedit adipisci expedita enim
DTSTART;VALUE=DATE:20200613
DTEND;VALUE=DATE:20200614
URL:https://mailchimp-pr-65.ci.next.deskprodemo.com/ar/news/posts/5
END:VEVENT
BEGIN:VEVENT
SUMMARY:Rerum consequatur harum aut earum
DTSTART;VALUE=DATE:20200612
DTEND;VALUE=DATE:20200613
URL:https://mailchimp-pr-65.ci.next.deskprodemo.com/ar/news/posts/56
END:VEVENT
BEGIN:VEVENT
SUMMARY:Qui eveniet quod commodi praesentium
DTSTART;VALUE=DATE:20200608
DTEND;VALUE=DATE:20200609
URL:https://mailchimp-pr-65.ci.next.deskprodemo.com/ar/news/posts/26
END:VEVENT
BEGIN:VEVENT
SUMMARY:Velit quibusdam delectus sit quis
DTSTART;VALUE=DATE:20200608
DTEND;VALUE=DATE:20200609
URL:https://mailchimp-pr-65.ci.next.deskprodemo.com/ar/news/posts/13
END:VEVENT
END:VCALENDAR
